BEGIN:VCALENDAR
VERSION:2.0
PRODID:icalendar-ruby
CALSCALE:GREGORIAN
METHOD:PUBLISH
BEGIN:VEVENT
DTSTAMP:20260426T041407Z
UID:87-269322@heritagevalleyassembly.com
DTSTART:20261004T163000Z
DTEND:20261004T180000Z
CLASS:PUBLIC
CREATED:20260425T180434
DESCRIPTION:We welcome you to join every Sunday at 10:30 am to worship in s
 ong\, fellowship and prayer.  Join us in person at The Multicultural Chri
 stian Church\, 4415 36 Ave\, Edmonton or On-Line. \nJoin us on YouTube on
  Heritage Plus using this link:  Heritage Plus\n Our service can also be 
 viewed on our Facebook page using this link: Facebook
LAST-MODIFIED:20260425T180434
LOCATION:Multicultural Christian Church of Edmonton\, 4415 36 Ave NW
SUMMARY:The Gathering-Sunday Morning Service
URL;VALUE=URI:https://www.heritagevalleyassembly.com/events/the-gathering-s
 unday-morning-service/2026-10-04
ATTACH;FILENAME=church-members.jpg;FMTTYPE=image/jpeg:https://dq5pwpg1q8ru0
 .cloudfront.net/2022/09/28/14/16/27/fca89450-0559-4f91-9eaa-d7f722d0b393/c
 hurch-members.jpg
END:VEVENT
END:VCALENDAR
